BEGIN:VCALENDAR
VERSION:2.0
PRODID:-//Welcome to National Incubation Center Peshawar - ECPv6.15.20//NONSGML v1.0//EN
CALSCALE:GREGORIAN
METHOD:PUBLISH
X-WR-CALNAME:Welcome to National Incubation Center Peshawar
X-ORIGINAL-URL:https://nicpeshawar.pk
X-WR-CALDESC:Events for Welcome to National Incubation Center Peshawar
REFRESH-INTERVAL;VALUE=DURATION:PT1H
X-Robots-Tag:noindex
X-PUBLISHED-TTL:PT1H
BEGIN:VTIMEZONE
TZID:UTC
BEGIN:STANDARD
TZOFFSETFROM:+0000
TZOFFSETTO:+0000
TZNAME:UTC
DTSTART:20250101T000000
END:STANDARD
END:VTIMEZONE
BEGIN:VEVENT
DTSTART;VALUE=DATE:20260330
DTEND;VALUE=DATE:20260331
DTSTAMP:20260423T213430
CREATED:20260326T054907Z
LAST-MODIFIED:20260330T052354Z
UID:14814-1774828800-1774915199@nicpeshawar.pk
SUMMARY:From customers to wider Markets: A Founder's GTM Guide
DESCRIPTION:Your first customers are only the beginning. The next challenge is turning early traction into real market growth.\n\n\nIn our upcoming curriculum session\, NIC Peshawar startups will explore how to build a sharper go to market strategy\, identify the right growth paths\, and move from initial wins to wider markets with clarity and direction.\n\n\nThis session\, From First Customers to Wider Markets: A Founder’s GTM Guide\, will be led by Syed Farhan Raza from Cordadigital.
URL:https://nicpeshawar.pk/event/from-customers-to-wider-markets-a-founders-gtm-guide/
LOCATION:NIC Peshawar\, National incubation center ptcl training center board bazar near sadaqat juice point old jamrud road.\, Peshawar\, 25000\, Pakistan
CATEGORIES:NIC Peshawar
ATTACH;FMTTYPE=image/jpeg:https://nicpeshawar.pk/wp-content/uploads/2026/03/WhatsApp-Image-2026-03-27-at-5.47.14-PM.jpeg
ORGANIZER;CN="National Incubation Center Peshawar":MAILTO:info@nicpeshawar.pk
END:VEVENT
BEGIN:VEVENT
DTSTART;VALUE=DATE:20260425
DTEND;VALUE=DATE:20260426
DTSTAMP:20260423T213430
CREATED:20260416T051552Z
LAST-MODIFIED:20260416T051552Z
UID:14836-1777075200-1777161599@nicpeshawar.pk
SUMMARY:Value Creation
DESCRIPTION:
URL:https://nicpeshawar.pk/event/value-creation/
LOCATION:NIC Peshawar\, National incubation center ptcl training center board bazar near sadaqat juice point old jamrud road.\, Peshawar\, 25000\, Pakistan
CATEGORIES:NIC Peshawar
ATTACH;FMTTYPE=image/jpeg:https://nicpeshawar.pk/wp-content/uploads/2026/04/WhatsApp-Image-2026-04-15-at-5.46.58-PM.jpeg
ORGANIZER;CN="National Incubation Center Peshawar":MAILTO:info@nicpeshawar.pk
END:VEVENT
BEGIN:VEVENT
DTSTART;VALUE=DATE:20260425
DTEND;VALUE=DATE:20260427
DTSTAMP:20260423T213430
CREATED:20260420T100628Z
LAST-MODIFIED:20260421T115758Z
UID:14842-1777075200-1777247999@nicpeshawar.pk
SUMMARY:Investment Readiness Bootcamp
DESCRIPTION:Something big is on the horizon. \nThe Investment Readiness Bootcamp is coming soon to NIC Peshawar\, bringing founders a chance to sharpen their pitch\, strengthen their strategy\, and get ready for real investment opportunities.\nStay tuned.
URL:https://nicpeshawar.pk/event/investment-readiness-bootcamp/
LOCATION:NIC Peshawar\, National incubation center ptcl training center board bazar near sadaqat juice point old jamrud road.\, Peshawar\, 25000\, Pakistan
CATEGORIES:NIC Peshawar
ATTACH;FMTTYPE=image/jpeg:https://nicpeshawar.pk/wp-content/uploads/2026/04/WhatsApp-Image-2026-04-21-at-4.55.47-PM.jpeg
ORGANIZER;CN="National Incubation Center Peshawar":MAILTO:info@nicpeshawar.pk
END:VEVENT
END:VCALENDAR