BEGIN:VCALENDAR
VERSION:2.0
PRODID:-//Welcome to National Incubation Center Peshawar - ECPv6.15.20//NONSGML v1.0//EN
CALSCALE:GREGORIAN
METHOD:PUBLISH
X-WR-CALNAME:Welcome to National Incubation Center Peshawar
X-ORIGINAL-URL:https://nicpeshawar.pk
X-WR-CALDESC:Events for Welcome to National Incubation Center Peshawar
REFRESH-INTERVAL;VALUE=DURATION:PT1H
X-Robots-Tag:noindex
X-PUBLISHED-TTL:PT1H
BEGIN:VTIMEZONE
TZID:UTC
BEGIN:STANDARD
TZOFFSETFROM:+0000
TZOFFSETTO:+0000
TZNAME:UTC
DTSTART:20240101T000000
END:STANDARD
END:VTIMEZONE
BEGIN:VEVENT
DTSTART;TZID=UTC:20251224T150000
DTEND;TZID=UTC:20251224T170000
DTSTAMP:20260423T214428
CREATED:20251222T055835Z
LAST-MODIFIED:20251222T055835Z
UID:14478-1766588400-1766595600@nicpeshawar.pk
SUMMARY:Basics of Accounting & Finance
DESCRIPTION:We are conducting a curriculum session on the basics of finance and accounting led by Ahad Wazir.Helping our founders and teams strengthen their financial understanding\, make informed decisions\, and build startups that are ready to scale with confidence.
URL:https://nicpeshawar.pk/event/basics-of-accounting-finance/
LOCATION:NIC Peshawar\, National incubation center ptcl training center board bazar near sadaqat juice point old jamrud road.\, Peshawar\, 25000\, Pakistan
CATEGORIES:NIC Peshawar
ATTACH;FMTTYPE=image/jpeg:https://nicpeshawar.pk/wp-content/uploads/2025/12/599939403_1211841741092719_845311858298425341_n.jpg
ORGANIZER;CN="National Incubation Center Peshawar":MAILTO:info@nicpeshawar.pk
END:VEVENT
BEGIN:VEVENT
DTSTART;TZID=UTC:20260105T150000
DTEND;TZID=UTC:20260105T170000
DTSTAMP:20260423T214428
CREATED:20260105T071619Z
LAST-MODIFIED:20260105T071619Z
UID:14512-1767625200-1767632400@nicpeshawar.pk
SUMMARY:Growth Strategy
DESCRIPTION:Driving sustainable growth starts with the right strategy.\n\n\nWe’re hosting a session on Growth Strategy with Syed Farhan Raza\, where our startups will dive into scaling frameworks\, market expansion\, and practical insights to grow smarter and faster.
URL:https://nicpeshawar.pk/event/growth-strategy/
LOCATION:NIC Peshawar\, National incubation center ptcl training center board bazar near sadaqat juice point old jamrud road.\, Peshawar\, 25000\, Pakistan
CATEGORIES:NIC Peshawar
ATTACH;FMTTYPE=image/jpeg:https://nicpeshawar.pk/wp-content/uploads/2026/01/610846538_1224382936505266_3662812139904782886_n.jpg
ORGANIZER;CN="National Incubation Center Peshawar":MAILTO:info@nicpeshawar.pk
END:VEVENT
BEGIN:VEVENT
DTSTART;TZID=UTC:20260107T150000
DTEND;TZID=UTC:20260107T170000
DTSTAMP:20260423T214428
CREATED:20260106T063708Z
LAST-MODIFIED:20260106T063708Z
UID:14518-1767798000-1767805200@nicpeshawar.pk
SUMMARY:Agile Transformation
DESCRIPTION:At NIC Peshawar\, we’re hosting an Agile Transformation session with Shaheen ur Rehman\, Consultant Agile Coach at the Ministry of IT & Telecommunications\, focused on helping startups and teams adapt faster\, collaborate better\, and build with clarity in an ever-evolving landscape.From agile principles to real-world application\, this session is about building resilient teams that are ready to respond\, iterate\, and grow.
URL:https://nicpeshawar.pk/event/agile-transformation/
LOCATION:NIC Peshawar\, National incubation center ptcl training center board bazar near sadaqat juice point old jamrud road.\, Peshawar\, 25000\, Pakistan
CATEGORIES:NIC Peshawar
ATTACH;FMTTYPE=image/jpeg:https://nicpeshawar.pk/wp-content/uploads/2026/01/610813379_1225099466433613_6056762563320930193_n.jpg
ORGANIZER;CN="National Incubation Center Peshawar":MAILTO:info@nicpeshawar.pk
END:VEVENT
BEGIN:VEVENT
DTSTART;VALUE=DATE:20260122
DTEND;VALUE=DATE:20260123
DTSTAMP:20260423T214428
CREATED:20260121T071350Z
LAST-MODIFIED:20260121T071350Z
UID:14582-1769040000-1769126399@nicpeshawar.pk
SUMMARY:The Pitching League Final
DESCRIPTION:The Pitching League Final is here.\n\n\nAfter weeks of preparation\, iteration\, and relentless hustle\, our startups take the stage for the ultimate showdown.\nThis is where ideas are tested\, stories are sharpened\, and founders pitch not just for validation\, but for what comes next.\nAll eyes on the final pitches. The journey continues from here.
URL:https://nicpeshawar.pk/event/the-pitching-league-final/
LOCATION:NIC Peshawar\, National incubation center ptcl training center board bazar near sadaqat juice point old jamrud road.\, Peshawar\, 25000\, Pakistan
CATEGORIES:NIC Peshawar
ATTACH;FMTTYPE=image/jpeg:https://nicpeshawar.pk/wp-content/uploads/2026/01/617057515_1235976528679240_7398444263127348716_n.jpg
ORGANIZER;CN="National Incubation Center Peshawar":MAILTO:info@nicpeshawar.pk
END:VEVENT
BEGIN:VEVENT
DTSTART;TZID=UTC:20260129T140000
DTEND;TZID=UTC:20260129T160000
DTSTAMP:20260423T214428
CREATED:20260126T132945Z
LAST-MODIFIED:20260127T055542Z
UID:14585-1769695200-1769702400@nicpeshawar.pk
SUMMARY:Legal Basics for Founders: Contracts\, Compliance & Company Setup
DESCRIPTION:
URL:https://nicpeshawar.pk/event/legal-basics-for-founders-contracts-compliance-company-setup/
LOCATION:NIC Peshawar\, National incubation center ptcl training center board bazar near sadaqat juice point old jamrud road.\, Peshawar\, 25000\, Pakistan
CATEGORIES:NIC Peshawar
ATTACH;FMTTYPE=image/jpeg:https://nicpeshawar.pk/wp-content/uploads/2026/01/WhatsApp-Image-2026-01-27-at-10.54.03-AM.jpeg
ORGANIZER;CN="National Incubation Center Peshawar":MAILTO:info@nicpeshawar.pk
END:VEVENT
BEGIN:VEVENT
DTSTART;VALUE=DATE:20260212
DTEND;VALUE=DATE:20260213
DTSTAMP:20260423T214428
CREATED:20260211T063951Z
LAST-MODIFIED:20260211T064153Z
UID:14680-1770854400-1770940799@nicpeshawar.pk
SUMMARY:AI Summit
DESCRIPTION:Got an AI idea you’ve been thinking about\, prototyping\, or sketching in your notes app? This is your chance to bring it to the stage.\n\n\nAs part of Indus AI Week\, we’re hosting Pitch Your AI Startup\, a platform for students to step into the founder seat\, pitch their vision\, and get real feedback from the ecosystem.\nWhether it’s a raw idea or an early product\, if it uses AI\, we want to hear it.\n\n\n\n\n\nRegister to pitch: https://forms.gle/vhC4xGJrBUBCz93j7
URL:https://nicpeshawar.pk/event/ai-summit/
LOCATION:NIC Peshawar\, National incubation center ptcl training center board bazar near sadaqat juice point old jamrud road.\, Peshawar\, 25000\, Pakistan
CATEGORIES:NIC Peshawar
ATTACH;FMTTYPE=image/jpeg:https://nicpeshawar.pk/wp-content/uploads/2026/02/628340123_1251372690472957_1253088578096746473_n.jpg
ORGANIZER;CN="National Incubation Center Peshawar":MAILTO:info@nicpeshawar.pk
END:VEVENT
BEGIN:VEVENT
DTSTART;VALUE=DATE:20260219
DTEND;VALUE=DATE:20260220
DTSTAMP:20260423T214428
CREATED:20260216T111555Z
LAST-MODIFIED:20260216T132600Z
UID:14686-1771459200-1771545599@nicpeshawar.pk
SUMMARY:Startup Connect 26
DESCRIPTION:
URL:https://nicpeshawar.pk/event/startup-connect-26/
LOCATION:NIC Peshawar\, National incubation center ptcl training center board bazar near sadaqat juice point old jamrud road.\, Peshawar\, 25000\, Pakistan
CATEGORIES:NIC Peshawar
ATTACH;FMTTYPE=image/jpeg:https://nicpeshawar.pk/wp-content/uploads/2026/02/WhatsApp-Image-2026-02-16-at-6.24.09-PM.jpeg
ORGANIZER;CN="National Incubation Center Peshawar":MAILTO:info@nicpeshawar.pk
END:VEVENT
BEGIN:VEVENT
DTSTART;VALUE=DATE:20260312
DTEND;VALUE=DATE:20260313
DTSTAMP:20260423T214428
CREATED:20260310T071304Z
LAST-MODIFIED:20260310T071304Z
UID:14697-1773273600-1773359999@nicpeshawar.pk
SUMMARY:Startup Connect: Healthcare Reimagined
DESCRIPTION:Healthcare is changing fast\, and innovation is leading the way.\n\n\nJoin us for Startup Connect: Healthcare Reimagined: Innovation Prescribed\, where leaders from healthcare and innovation come together to explore how bold ideas\, technology\, and entrepreneurship are reshaping the future of care.\n\n\nFrom hospitals to healthtech startups\, this conversation will unpack what it takes to build smarter\, more accessible\, and more impactful healthcare solutions in Pakistan.\n\n\nRegister now: https://luma.com/x1mhu3tt
URL:https://nicpeshawar.pk/event/startup-connect-healthcare-reimagined-2/
LOCATION:NIC Peshawar\, National incubation center ptcl training center board bazar near sadaqat juice point old jamrud road.\, Peshawar\, 25000\, Pakistan
CATEGORIES:NIC Peshawar
ATTACH;FMTTYPE=image/jpeg:https://nicpeshawar.pk/wp-content/uploads/2026/03/648631656_1276255111318048_3979948288423824554_n.jpg
ORGANIZER;CN="National Incubation Center Peshawar":MAILTO:info@nicpeshawar.pk
END:VEVENT
BEGIN:VEVENT
DTSTART;VALUE=DATE:20260330
DTEND;VALUE=DATE:20260331
DTSTAMP:20260423T214428
CREATED:20260326T054907Z
LAST-MODIFIED:20260330T052354Z
UID:14814-1774828800-1774915199@nicpeshawar.pk
SUMMARY:From customers to wider Markets: A Founder's GTM Guide
DESCRIPTION:Your first customers are only the beginning. The next challenge is turning early traction into real market growth.\n\n\nIn our upcoming curriculum session\, NIC Peshawar startups will explore how to build a sharper go to market strategy\, identify the right growth paths\, and move from initial wins to wider markets with clarity and direction.\n\n\nThis session\, From First Customers to Wider Markets: A Founder’s GTM Guide\, will be led by Syed Farhan Raza from Cordadigital.
URL:https://nicpeshawar.pk/event/from-customers-to-wider-markets-a-founders-gtm-guide/
LOCATION:NIC Peshawar\, National incubation center ptcl training center board bazar near sadaqat juice point old jamrud road.\, Peshawar\, 25000\, Pakistan
CATEGORIES:NIC Peshawar
ATTACH;FMTTYPE=image/jpeg:https://nicpeshawar.pk/wp-content/uploads/2026/03/WhatsApp-Image-2026-03-27-at-5.47.14-PM.jpeg
ORGANIZER;CN="National Incubation Center Peshawar":MAILTO:info@nicpeshawar.pk
END:VEVENT
BEGIN:VEVENT
DTSTART;VALUE=DATE:20260425
DTEND;VALUE=DATE:20260426
DTSTAMP:20260423T214428
CREATED:20260416T051552Z
LAST-MODIFIED:20260416T051552Z
UID:14836-1777075200-1777161599@nicpeshawar.pk
SUMMARY:Value Creation
DESCRIPTION:
URL:https://nicpeshawar.pk/event/value-creation/
LOCATION:NIC Peshawar\, National incubation center ptcl training center board bazar near sadaqat juice point old jamrud road.\, Peshawar\, 25000\, Pakistan
CATEGORIES:NIC Peshawar
ATTACH;FMTTYPE=image/jpeg:https://nicpeshawar.pk/wp-content/uploads/2026/04/WhatsApp-Image-2026-04-15-at-5.46.58-PM.jpeg
ORGANIZER;CN="National Incubation Center Peshawar":MAILTO:info@nicpeshawar.pk
END:VEVENT
BEGIN:VEVENT
DTSTART;VALUE=DATE:20260425
DTEND;VALUE=DATE:20260427
DTSTAMP:20260423T214428
CREATED:20260420T100628Z
LAST-MODIFIED:20260421T115758Z
UID:14842-1777075200-1777247999@nicpeshawar.pk
SUMMARY:Investment Readiness Bootcamp
DESCRIPTION:Something big is on the horizon. \nThe Investment Readiness Bootcamp is coming soon to NIC Peshawar\, bringing founders a chance to sharpen their pitch\, strengthen their strategy\, and get ready for real investment opportunities.\nStay tuned.
URL:https://nicpeshawar.pk/event/investment-readiness-bootcamp/
LOCATION:NIC Peshawar\, National incubation center ptcl training center board bazar near sadaqat juice point old jamrud road.\, Peshawar\, 25000\, Pakistan
CATEGORIES:NIC Peshawar
ATTACH;FMTTYPE=image/jpeg:https://nicpeshawar.pk/wp-content/uploads/2026/04/WhatsApp-Image-2026-04-21-at-4.55.47-PM.jpeg
ORGANIZER;CN="National Incubation Center Peshawar":MAILTO:info@nicpeshawar.pk
END:VEVENT
END:VCALENDAR