BEGIN:VCALENDAR
VERSION:2.0
PRODID:-//Welcome to National Incubation Center Peshawar - ECPv6.15.20//NONSGML v1.0//EN
CALSCALE:GREGORIAN
METHOD:PUBLISH
X-WR-CALNAME:Welcome to National Incubation Center Peshawar
X-ORIGINAL-URL:https://nicpeshawar.pk
X-WR-CALDESC:Events for Welcome to National Incubation Center Peshawar
REFRESH-INTERVAL;VALUE=DURATION:PT1H
X-Robots-Tag:noindex
X-PUBLISHED-TTL:PT1H
BEGIN:VTIMEZONE
TZID:UTC
BEGIN:STANDARD
TZOFFSETFROM:+0000
TZOFFSETTO:+0000
TZNAME:UTC
DTSTART:20240101T000000
END:STANDARD
END:VTIMEZONE
BEGIN:VEVENT
DTSTART;VALUE=DATE:20250517
DTEND;VALUE=DATE:20250518
DTSTAMP:20260423T130212
CREATED:20250515T054322Z
LAST-MODIFIED:20250515T054357Z
UID:12653-1747440000-1747526399@nicpeshawar.pk
SUMMARY:Inspiring Leadership for Organizational Excellence: HR & Team Building
DESCRIPTION:Kamran Zishan Rizvi\, Co-Founder of Carnelian and School of Leadership\, will lead this session\, bringing over four decades of experience in Europe\, the Middle East\, and South Asia. With his deep expertise in leadership\, personal growth\, and building high-performance teams\, this session is designed to provide invaluable insights into driving organizational excellence.Key takeaways will include:The 4 Pillars of Organizational Excellence (DCER)Tuckman’s Model on Team Building with practical exercisesLeveraging diversity within teams for greater successManaging conflict for innovationBuilding a collaborative culture
URL:https://nicpeshawar.pk/event/inspiring-leadership-for-organizational-excellence-hr-team-building/
LOCATION:NIC Peshawar\, National incubation center ptcl training center board bazar near sadaqat juice point old jamrud road.\, Peshawar\, 25000\, Pakistan
CATEGORIES:NIC Peshawar
ATTACH;FMTTYPE=image/jpeg:https://nicpeshawar.pk/wp-content/uploads/2025/05/497586095_1034714228805472_3833038088819547443_n.jpg
ORGANIZER;CN="National Incubation Center Peshawar":MAILTO:info@nicpeshawar.pk
END:VEVENT
END:VCALENDAR