BEGIN:VCALENDAR
VERSION:2.0
PRODID:-//Welcome to National Incubation Center Peshawar - ECPv6.15.20//NONSGML v1.0//EN
CALSCALE:GREGORIAN
METHOD:PUBLISH
X-ORIGINAL-URL:https://nicpeshawar.pk
X-WR-CALDESC:Events for Welcome to National Incubation Center Peshawar
REFRESH-INTERVAL;VALUE=DURATION:PT1H
X-Robots-Tag:noindex
X-PUBLISHED-TTL:PT1H
BEGIN:VTIMEZONE
TZID:UTC
BEGIN:STANDARD
TZOFFSETFROM:+0000
TZOFFSETTO:+0000
TZNAME:UTC
DTSTART:20240101T000000
END:STANDARD
END:VTIMEZONE
BEGIN:VEVENT
DTSTART;VALUE=DATE:20250415
DTEND;VALUE=DATE:20250416
DTSTAMP:20260423T144723
CREATED:20250414T062138Z
LAST-MODIFIED:20250506T113259Z
UID:12499-1744675200-1744761599@nicpeshawar.pk
SUMMARY:The Art of Pitching
DESCRIPTION:How do you turn a great idea into a winning pitch?\n\n\nJoin us at NIC Peshawar for “The Art of Pitching” with Muhammad Naqi Ejaz and Mavara Ahmad of mimAR Studios—a startup that’s transforming real estate through augmented reality and storytelling.\n\n\nFrom startup stages to global recognitions\, this dynamic duo knows what it takes to pitch with impact\, clarity\, and conviction.
URL:https://nicpeshawar.pk/event/the-art-of-pitching/
LOCATION:NIC Peshawar\, National incubation center ptcl training center board bazar near sadaqat juice point old jamrud road.\, Peshawar\, 25000\, Pakistan
CATEGORIES:NIC Peshawar
ATTACH;FMTTYPE=image/jpeg:https://nicpeshawar.pk/wp-content/uploads/2025/04/36cbb1fe-7e32-4818-9054-0807f3107930.jpg
END:VEVENT
END:VCALENDAR