BEGIN:VCALENDAR
VERSION:2.0
PRODID:-//Welcome to National Incubation Center Peshawar - ECPv6.15.20//NONSGML v1.0//EN
CALSCALE:GREGORIAN
METHOD:PUBLISH
X-ORIGINAL-URL:https://nicpeshawar.pk
X-WR-CALDESC:Events for Welcome to National Incubation Center Peshawar
REFRESH-INTERVAL;VALUE=DURATION:PT1H
X-Robots-Tag:noindex
X-PUBLISHED-TTL:PT1H
BEGIN:VTIMEZONE
TZID:UTC
BEGIN:STANDARD
TZOFFSETFROM:+0000
TZOFFSETTO:+0000
TZNAME:UTC
DTSTART:20240101T000000
END:STANDARD
END:VTIMEZONE
BEGIN:VEVENT
DTSTART;VALUE=DATE:20250318
DTEND;VALUE=DATE:20250319
DTSTAMP:20260423T160808
CREATED:20250408T064252Z
LAST-MODIFIED:20250506T113329Z
UID:12475-1742256000-1742342399@nicpeshawar.pk
SUMMARY:Virtual Mentoring Session: Mastering Startup Finances & Navigating Business Growth
DESCRIPTION:Managing finances and scaling a startup is no easy task—but the right strategy can set you up for success. This speed mentoring session is designed to help our incubated startups navigate financial planning\, fundraising\, and business growth.
URL:https://nicpeshawar.pk/event/virtual-mentoring-session-mastering-startup-finances-navigating-business-growth/
LOCATION:NIC Peshawar\, National incubation center ptcl training center board bazar near sadaqat juice point old jamrud road.\, Peshawar\, 25000\, Pakistan
CATEGORIES:NIC Peshawar
ATTACH;FMTTYPE=image/jpeg:https://nicpeshawar.pk/wp-content/uploads/2025/04/484512365_989982733278622_1256313975021659786_n.jpg
ORGANIZER;CN="National Incubation Center Peshawar":MAILTO:info@nicpeshawar.pk
END:VEVENT
END:VCALENDAR